BEGIN:VCALENDAR
VERSION:2.0
PRODID:-//SC Tönning - ECPv6.15.20//NONSGML v1.0//EN
CALSCALE:GREGORIAN
METHOD:PUBLISH
X-ORIGINAL-URL:https://schachclubtoenning.de
X-WR-CALDESC:Veranstaltungen für SC Tönning
REFRESH-INTERVAL;VALUE=DURATION:PT1H
X-Robots-Tag:noindex
X-PUBLISHED-TTL:PT1H
BEGIN:VTIMEZONE
TZID:Europe/Berlin
BEGIN:DAYLIGHT
TZOFFSETFROM:+0100
TZOFFSETTO:+0200
TZNAME:CEST
DTSTART:20230326T010000
END:DAYLIGHT
BEGIN:STANDARD
TZOFFSETFROM:+0200
TZOFFSETTO:+0100
TZNAME:CET
DTSTART:20231029T010000
END:STANDARD
BEGIN:DAYLIGHT
TZOFFSETFROM:+0100
TZOFFSETTO:+0200
TZNAME:CEST
DTSTART:20240331T010000
END:DAYLIGHT
BEGIN:STANDARD
TZOFFSETFROM:+0200
TZOFFSETTO:+0100
TZNAME:CET
DTSTART:20241027T010000
END:STANDARD
BEGIN:DAYLIGHT
TZOFFSETFROM:+0100
TZOFFSETTO:+0200
TZNAME:CEST
DTSTART:20250330T010000
END:DAYLIGHT
BEGIN:STANDARD
TZOFFSETFROM:+0200
TZOFFSETTO:+0100
TZNAME:CET
DTSTART:20251026T010000
END:STANDARD
BEGIN:DAYLIGHT
TZOFFSETFROM:+0100
TZOFFSETTO:+0200
TZNAME:CEST
DTSTART:20260329T010000
END:DAYLIGHT
BEGIN:STANDARD
TZOFFSETFROM:+0200
TZOFFSETTO:+0100
TZNAME:CET
DTSTART:20261025T010000
END:STANDARD
BEGIN:DAYLIGHT
TZOFFSETFROM:+0100
TZOFFSETTO:+0200
TZNAME:CEST
DTSTART:20270328T010000
END:DAYLIGHT
BEGIN:STANDARD
TZOFFSETFROM:+0200
TZOFFSETTO:+0100
TZNAME:CET
DTSTART:20271031T010000
END:STANDARD
END:VTIMEZONE
BEGIN:VEVENT
DTSTART;TZID=Europe/Berlin:20260321T100000
DTEND;TZID=Europe/Berlin:20260321T170000
DTSTAMP:20260421T103138
CREATED:20251209T220222Z
LAST-MODIFIED:20251209T220222Z
UID:2321-1774087200-1774112400@schachclubtoenning.de
SUMMARY:JugendGrandPrix
DESCRIPTION:GPTurnier2025Details
URL:https://schachclubtoenning.de/event/jugendgrandprix-4/
END:VEVENT
BEGIN:VEVENT
DTSTART;TZID=Europe/Berlin:20260301T110000
DTEND;TZID=Europe/Berlin:20260301T170000
DTSTAMP:20260421T103138
CREATED:20251209T124208Z
LAST-MODIFIED:20251209T124515Z
UID:2311-1772362800-1772384400@schachclubtoenning.de
SUMMARY:Tönning verein(t)
DESCRIPTION:Tönninger Vereine stellen sich vor. \nDas Ereignis ist noch in Planung. \nWeitere Details folgen sobald möglich.
URL:https://schachclubtoenning.de/event/toenning-vereint/
LOCATION:Packhaus Tönning\, Am Eiderdeich 18\, Tönning\, 25832\, Germany
END:VEVENT
BEGIN:VEVENT
DTSTART;TZID=Europe/Berlin:20260228T100000
DTEND;TZID=Europe/Berlin:20260228T170000
DTSTAMP:20260421T103138
CREATED:20251209T143641Z
LAST-MODIFIED:20251209T143641Z
UID:2317-1772272800-1772298000@schachclubtoenning.de
SUMMARY:JugendGrandPrix
DESCRIPTION:GPTurnier2025Details
URL:https://schachclubtoenning.de/event/jugendgrandprix-2/
END:VEVENT
BEGIN:VEVENT
DTSTART;VALUE=DATE:20251217
DTEND;VALUE=DATE:20260113
DTSTAMP:20260421T103138
CREATED:20251209T124401Z
LAST-MODIFIED:20251209T124401Z
UID:2315-1765929600-1768262399@schachclubtoenning.de
SUMMARY:Winterpause
DESCRIPTION:
URL:https://schachclubtoenning.de/event/winterpause/
END:VEVENT
BEGIN:VEVENT
DTSTART;TZID=Europe/Berlin:20251216T200000
DTEND;TZID=Europe/Berlin:20251216T223000
DTSTAMP:20260421T103138
CREATED:20251208T161547Z
LAST-MODIFIED:20251208T161547Z
UID:2303-1765915200-1765924200@schachclubtoenning.de
SUMMARY:Offene Blitzschachmeisterschaft
DESCRIPTION:Blitzschach mit der klassischen Bedenkzeit von 5 Minuten ohne Zeitgutschrift. \nEntweder ein Vollrundenturnier oder 9 Runden Schweizer System. \nAnwesenheit spätestens 15 Minugten vor Turniebeginn.
URL:https://schachclubtoenning.de/event/offene-blitzschachmeisterschaft/
LOCATION:AWO Tönning\, AWO Tönning
END:VEVENT
BEGIN:VEVENT
DTSTART;TZID=Europe/Berlin:20251115T100000
DTEND;TZID=Europe/Berlin:20251115T170000
DTSTAMP:20260421T103138
CREATED:20251020T191814Z
LAST-MODIFIED:20251020T191814Z
UID:2098-1763200800-1763226000@schachclubtoenning.de
SUMMARY:JugendGrandPrix
DESCRIPTION:GPTurnier2025Details
URL:https://schachclubtoenning.de/event/jugendgrandprix/
END:VEVENT
BEGIN:VEVENT
DTSTART;TZID=Europe/Berlin:20250909T200000
DTEND;TZID=Europe/Berlin:20250909T220000
DTSTAMP:20260421T103138
CREATED:20250707T075629Z
LAST-MODIFIED:20250808T210711Z
UID:1830-1757448000-1757455200@schachclubtoenning.de
SUMMARY:Jahreshauptversammlung
DESCRIPTION:Nur für Mitglieder des Schachclub Tönning \nSaisonvorbereitungen \nRückblick auf das letzte Jahr und Planungen für das nächste Jahr
URL:https://schachclubtoenning.de/event/1830/
LOCATION:AWO Tönning\, AWO Tönning
END:VEVENT
BEGIN:VEVENT
DTSTART;TZID=Europe/Berlin:20250517T080000
DTEND;TZID=Europe/Berlin:20250517T170000
DTSTAMP:20260421T103138
CREATED:20241112T145356Z
LAST-MODIFIED:20250411T215845Z
UID:1154-1747468800-1747501200@schachclubtoenning.de
SUMMARY:Bezirksmeisterschaft Jugend
DESCRIPTION:Einladung Jugendbezirksturnier 2025
URL:https://schachclubtoenning.de/event/bezirksmeisterschaft-jugend/
END:VEVENT
BEGIN:VEVENT
DTSTART;TZID=Europe/Berlin:20241217T193000
DTEND;TZID=Europe/Berlin:20241217T220000
DTSTAMP:20260421T103138
CREATED:20241119T145727Z
LAST-MODIFIED:20241122T213806Z
UID:1237-1734463800-1734472800@schachclubtoenning.de
SUMMARY:Blitzschachturnier
DESCRIPTION:Offene Stadtmeisterschaft für Hobbyschachspieler. \nBlitzschachturnier mit 5 Minuten Bedenkzeit pro Spieler und Runde.\nJeder Teilnehmer bekommt eine Urkunde und ein kleines Präsent.
URL:https://schachclubtoenning.de/event/blitzschachturnier/
LOCATION:AWO Tönning\, AWO Tönning
END:VEVENT
END:VCALENDAR